BEGIN:VCALENDAR
VERSION:2.0
PRODID:Events Booking
BEGIN:VEVENT
UID:69ecdea414346
SUMMARY:Camp. Nacional de Orientação Pedestre de Distancia Media e Estafe
 tas
DESCRIPTION:DESTAQUES:
 &nbsp\;
 &nbsp\;
 \n\n\n\n\n\n\nApresentação\n
 Programa\nINFO Gerais\nINFO Técnicas\nlocalizações\nInscrições\nRespo
 nsabilidades Sociais e Ambientais\nOrganização\nPartidas\nClassificaçõ
 es\nAvisos/Alertas/Informação Relevante\nVideos e Fotos\n\n\n\n\n\n\nApr
 esentação
 COA - Clube de Orientação e Aventura em parceria com a Fed
 eração Portuguesa de Orientação\, com o apoio do Município de Peniche
  e da Freguesia do Ferrel\, organizam o Campeonato Nacional de Estafetas e
  de Distância Média\, de Orientação Pedestre\, nos próximos dias 06 e
  07 junho de 2026.
 Evento que define os Campeões Nacionais das diferent
 es variantes\, sendo que nesta prova podem participar pessoas de ambos os 
 sexos\, federados e não federados\, pois existem percursos de Competiçã
 o e Abertos (Escalão Open)
 O terreno é típico de pinhal Atlântico\, 
 apresenta uma rede de micro relevo significativo\, com interessantes opç
 ões\, onde a destreza física e técnica serão determinantes para ultrap
 assar os obstáculos apresentados\, sendo percursos adequados para todos o
 s tipos de andamento e conhecimentos de orientação.
 O COA deseja a tod
 os participantes e agentes envolvidos neste evento\, um dia repleto de ave
 ntura\, de desportivismo e de sã competitividade.
 Aparece e vem orienta
 r-te pela floresta de Ferrel/Peniche!
 Contamos com a vossa presença!
 
 &nbsp\;
 &nbsp\;
 \n\n\n\n\n\nPrograma
 &nbsp\;
 29 maio 2026 (23H59)\
 , Limite Inscrições
 
 Por se tratar dos Campeonatos Nacionais\, e pel
 a verdade desportiva\, a organização não aceitará nenhuma inscrição 
 em competição\, após o limite do prazo.
 Após esta data\, só serão 
 aceites inscrições em escalões abertos\, conforme disponibilidade de ma
 pas.
 
 &nbsp\;
 Sábado\, 06 junho 2026 – CN Média
 
 11h00 Abert
 ura do secretariado\, na arena
 
 
 14h00 Início das Partidas CN Médi
 a
 
 
 14H15 Partidas dos escalões abertos e de formação
 
 
 16h
 00 Cerimónia de entrega de prémios CN Média (previsão)
 
 &nbsp\;
 
 Domingo\, 07 junho (Manhã) 2026 – CN Estafetas
 
 08h30 – Abertura 
 do Secretariado\, na Arena
 
 
 09h30 – Briefing sobre a passagem do 
 testemunho
 
 
 09h35 – Abertura da quarentena para a partida em mass
 a
 
 
 10h00 – Partida em massa do CNEstafetas
 
 
 10h30 – Part
 idas dos escalões abertos e de formação
 
 
 12h00 – Partida em ma
 ssa dos restantes atletas
 
 
 13h30 – Entrega de Prémios do Campeon
 ato Nacional de Estafetas (previsão)
 
 &nbsp\;&nbsp\;
 \n\n\n\n\n\nIN
 FO Gerais
 &nbsp\;
 PRÉMIOS 
 Campeonato Nacional de Distância Média
 :
 A FPO atribui medalhas FPO aos três primeiros classificados de todos 
 os escalões de competição e o troféu FPO ao clube campeão de cada cat
 egoria.
 Campeonato Nacional de Estafetas:
 A FPO atribui medalhas FPO a
 os três primeiros classificados de todos os escalões de competição
 N
 ota:
 
 T10\, e H/D12 só serão atribuídas lembranças a todos os part
 icipantes desde que inscritos.
 Escalões Extracompetição H/D B\, H/D 2
 1A e Open’s\, serão atribuídos prémios para os 3 primeiros de cada op
 en (branco\, verde\, amarelo\, vermelho)
 Estafetas Popular curta e longa
 \, serão atribuídos prémios para os 3 primeiros de cada.
 
 &nbsp\;

  BABY-SITTING
 Haverá serviço de baby sitting na arena nos dois dias do
  evento.
 
 Apenas terão acesso a este espaço\, as crianças inscritas
  no OriOasis\;
 Cada criança receberá uma pulseira que deverá ser pree
 nchida pelo responsável do menor\;
 As pulseiras vão ter a hora de part
 ida do responsável\, o qual pode deixar a criança no Baby Sitting 30 min
 utos antes da partida\, devendo ir buscar a criança no máximo 30 minutos
  após a hora de chegada.&nbsp\;
 
 &nbsp\;
 BANHOS
 Serão disponibil
 izados Banhos no Solo Duro na Associação Social Cultural Desportiva de F
 errel:
 Localização -&nbsp\;Localização Banhos
 &nbsp\;
 ALIMENTAÇ
 ÃO
 O serviço de bar não existe\, no entanto\, o COA está a tentar en
 contrar a possibilidade de uma roulote para o efeito
 &nbsp\;
 ARENAS
 
 Na Arena haverá: Chegadas\, Secretariado\, Baby Sitting\, Primeiros Socor
 ros\, Wc.
 &nbsp\;
 ESTACIONAMENTO
 
 &nbsp\;
 SOLO DURO
 Associaç
 ão Social Cultural Desportiva de Ferrel:
 Localização:&nbsp\;Localiza
 ção Solo Duro
 
 Possibilidade para banhos e pernoita em regime de sac
 o-cama e colchão.
 
 
 Apenas terão acesso a este espaço\, as pessoa
 s inscritas no OriOasis\;
 
 
 Proibido uso de calçado de competição
  no interior do Pavilhão.
 
 
 É proibido confecionar comida no inter
 ior do pavilhão\;
 
 
 É proibido lavar louças ou utensílios usados
  em refeições nas instalações do pavilhão\;
 
 Nota sobre a utiliza
 ção de tendas em solo duro: A montagem de tendas no solo duro é permiti
 da\, mas está condicionada:
 
 Não é permitido que a instalação das
  mesmas perturbe ou condicione a ocupação do espaço por outros particip
 antes.
 Além disso\, é estritamente proibida a fixação das tendas com
  materiais perfurantes ou qualquer tipo de elemento que possa danificar o 
 chão do pavilhão.
 Grátis\, requer\, no entanto\, inscrição na plata
 forma Orioasis
 
 IMPORTANTE: qualquer destas infrações implica expuls
 ão do espaço\;
 &nbsp\;
 PRIMEIROS SOCORROS
 
 Em cada etapa estará
  montado um sistema de apoio e prestação de primeiros socorros. Mediante
  a verificação de cuidados acrescidos\, será feita a evacuação e tran
 sporte para unidade de saúde identificada para o efeito.
 
 &nbsp\;
 R
 ECOLHA MAPAS (Fair-Play)
 
 Não haverá recolha de mapas no final dos p
 ercursos. Por esse facto\, apela-se ao fair-play de todos os participantes
 
 
 &nbsp\;
 INFORMAÇÕES REGULAMENTARES
 As provas decorrem sob o de
 terminado no Regulamento de Competições da FPO para 2026. Assinalamos se
 guidamente alguns aspetos importantes.
 Constitui obrigação dos pratica
 ntes:
 
 Descarregar o chip na chegada\, mesmo que não concluam o percu
 rso\;
 Auxiliar qualquer praticante em caso de acidente\;
 Respeitar as 
 áreas balizadas.
 Colocação do Peitoral (número Federado) em local vi
 sível
 
 &nbsp\;
 Constitui motivo de desclassificação de qualquer a
 tleta/equipa:
 
 Perda do chip\;
 Progredir ou provocar danos em áreas
  privadas\, cultivadas\, proibidas ou interditas\;
 Desrespeitar as norma
 s gerais de proteção da floresta\;
 Não respeitar as passagens obrigat
 órias.
 
 &nbsp\;
 Sistema de Controlo SportIdent
 
 Nesta prova ser
 á utilizado o sistema eletrónico SportIdent para controlo da execução 
 dos percursos.
 Cada atleta ou equipa leva\, além do mapa\, um SI Card (
 a organização aluga a quem não tiver).
 O atleta ou grupo (em escalão
  aberto) comprova a sua passagem por cada ponto de controlo inserindo o SI
  Card no orifício da Estação SI de cada ponto de controlo (esperar até
  ouvir o bip e/ou o piscar do 2 led de confirmação).
 Os pontos devem s
 er controlados pela ordem sequencial que foi definida no mapa\, sob pena d
 e desclassificação.
 Na chegada os dados do SI Card são lidos para ver
 ificar a correta execução do percurso.
 Em caso de falha comprovada do 
 sistema SportIdent\, deverá ser picotado um dos quadrados de reserva do m
 apa (R1\, R2 e R3).
 Os chips alugados deverão ser devolvidos no final d
 a prova no secretariado\;
 A perda ou não devolução do SI Card alugado
  implica a perda da caução de 30 € paga / entregue quando do aluguer d
 o SI Card.
 Caso o atleta altere o SIcard tem obrigatoriamente\, antes da
  sua partida\, que oficializar essa alteração no secretariado. Não ser
 ão autorizadas partidas de atletas com alterações de dados que não ten
 ham a validação do secretariado.
 
 &nbsp\;
 Tempos de partida e temp
 o máximo de prova
 
 Não haverá alterações na hora de partida no pr
 óprio dia em escalões de competição\;
 Os escalões de H/D 10\, H/D 1
 2 e os escalões abertos terão hora de partida atribuída\, mas como refe
 rência apenas para não criar um grande aglomerado de atletas no mesmo mi
 nuto. Deverão iniciar a sua prova utilizando a Base “Start” que estar
 á na Zona de Partidas como habitual.
 Tempo limite para cada percurso:

  
 &nbsp\; &nbsp\; &nbsp\; &nbsp\; &nbsp\; &nbsp\; CN Média – 2H00
 &
 nbsp\; &nbsp\; &nbsp\; &nbsp\; &nbsp\; &nbsp\; CN Estafetas – 4H30
 &nb
 sp\;
 Outras informações:
 
 Os chips cedidos ou alugados aos partici
 pantes devem ser devolvidos à organização no final da prova\, após ser
 em descarregados na Informática (em caso de extravio é cobrado o valor d
 efinido no Regulamento Geral-Taxas)\;
 O tempo máximo admitido para real
 ização das provas é o constante no regulamento de Competições para a 
 época em vigor\, ultrapassado esse limite\, será aplicada a desclassific
 ação\;
 Qualquer acidente ou ocorrência que suceda durante a execuçã
 o dos percursos é da responsabilidade dos praticantes\, em tudo o que exc
 eda os riscos cobertos pelo Seguro Desportivo e Seguro de Responsabilidade
  Civil do evento negociadas pela FPO para a época em curso e constantes n
 o seu site\;
 Os atletas estrangeiros\, residentes fora de Portugal não 
 estão cobertos pelo Seguro Desportivo\, pelo que deverão adquirir um seg
 uro separado (seguro para não federados)\, caso assim o pretendam\;
 Os 
 praticantes estão abrangidos pelas apólices da FPO nos termos das mesmas
 \, ou por outra de grupo que a substitua e seja previamente aceite pela FP
 O\;
 A responsabilidade de qualquer ocorrência ou acidente é sempre dos
  participantes. Em todo o caso\, os organizadores\, durante a preparação
  dos percursos\, procuram eliminar todas as situações potencialmente per
 igosas\;
 Qualquer lesão\, acidente ou dano bem como perda ou deteriora
 ção de equipamentos durante a execução da prova é responsabilidade do
  participante\;
 Durante a prova a organização pode impedir um particip
 ante de terminar a sua prova se\, for considerado não estar em condiçõe
 s de continuar\;
 A suspensão da prova após o seu início\, por razões
  alheias à Organização\, não responsabiliza os mesmos\;
 Os participa
 ntes deverão estar em condições de exibir\, no secretariado no dia da p
 rova\, os seguintes documentos:
 
 
 Cartão de cidadão ou passaporte\
 ;
 Autorização do encarregado de educação para participantes menores 
 de 18 anos.
 
 &nbsp\;
 &nbsp\;Direitos Imagem
 
 Reserva-se o direit
 o de divulgar as imagens (fotografias e vídeos) recolhidas nesta atividad
 e nos meios de comunicação social e em suportes de comunicação do Club
 e e utilizar as mesmas para fins promocionais exclusivos do Clube\, a part
 icipação no evento implica a aceitação desta norma.
 
 &nbsp\;
 \n\
 n\n\n\n\nINFO Técnicas&nbsp\;
 &nbsp\;
 Provisórias
 &nbsp\;
 
 &nb
 sp\;&nbsp\;
 Mapas / Terreno
 &nbsp\;Mapa ISOM – Pinhal da Câmara-Fer
 rel - Peniche (Mapa Novo)
 &nbsp\; &nbsp\; &nbsp\;Escala – 1:10000
 &n
 bsp\; &nbsp\; Equidistância – 5m
 &nbsp\;Imagens Extratos
 &nbsp\;&nb
 sp\;&nbsp\;&nbsp\;&nbsp\;
 Fotos do Terreno
 &nbsp\;&nbsp\; &nbsp\; &nbs
 p\; &nbsp\; &nbsp\;&nbsp\;
 &nbsp\;
 \n\n\n\n\n\nlocalizações
 CENTRO
  DO EVENTO / ARENA&nbsp\;-&nbsp\;Zona perto da casa do guarda (Secretariad
 o\; Baby Sitting\, Bar\, Informática\, Chegadas\, Primeiros Socorros\, WC
 )
 Coordenadas: 39.366287\, -9.286248
 &nbsp\; &nbsp\; &nbsp\; &nbsp\; &
 nbsp\; &nbsp\; &nbsp\; &nbsp\; &nbsp\; &nbsp\; &nbsp\; &nbsp\; 39°21'58.7
 \"N 9°17'10.4\"W
 Localização - https://maps.app.goo.gl/PBTrVXzg6v5eJ9
 u99
 &nbsp\;
 SOLO DURO e BANHOS&nbsp\;-&nbsp\;Associação Social Cultu
 ral Desportiva de Ferrel:
 Coordenadas:&nbsp\;39°21'44.6\"N 9°19'10.4\"
 W
 &nbsp\; &nbsp\; &nbsp\; &nbsp\; &nbsp\; &nbsp\; &nbsp\; &nbsp\; &nbsp\
 ; &nbsp\; &nbsp\; &nbsp\;39.362391\, -9.319549
 &nbsp\;Localização:&nbs
 p\;39°21'44.6\"N 9°19'10.4\"W - Google Maps
 &nbsp\;
 \n\n\n\n\n\nInsc
 rições
 Taxas de Inscrição&nbsp\;
 
 
 
 
 Tipo Praticante
 
 
 
 Nível Etário
 
 
 Até às 23H59 do dia 29MAI2026
 
 
 
 
 Pr
 aticante Federado Renovado e praticantes Federados na FEDO
 
 
 Jovem* 
 em escalão Formação ou aberto
 
 
 6\,00€
 
 
 
 
 Jovem* em 
 escalão competição
 
 
 
 
 Adulto em escalão Formação ou abert
 o
 
 
 10\,00€
 
 
 
 
 Adulto em escalão competição
 
 
 
 
 
 Não Federados
 (+ 2€ de Seguro Obrigatório)
 
 
 Jovem* em e
 scalão Formação ou aberto
 
 
 7\,00€
 
 
 
 
 Jovem* em esca
 lão competição
 
 
 10\,00€
 
 
 
 
 Adulto em escalão Forma
 ção ou aberto
 
 
 11\,00€
 
 
 
 
 Adulto em escalão competi
 ção
 
 
 18\,00€
 
 
 
 
 Desporto Escolar**
 
 
 Jovem*
 
 
 
 3\,00€
 
 
 
 
 * Até 20 anos (celebrados até 31Dez do resp
 etivo ano)
 &nbsp\;** Isenção de aluguer de SI e da taxa de seguro\, de
 sde que enquadrados pelos docentes\, sendo obrigatória apresentação de 
 comprovativo do Seguro Escolar\, passado pelo Estabelecimento de Ensino.

  &nbsp\;
 Processo de inscrição
 A inscrição pode faz-se através da
  plataforma OriOásis - Inscrições. (Federados e Não Federados)
 Podem
  ainda enviar as inscrições por e-mail: Este endereço de email está pr
 otegido contra piratas. Necessita ativar o JavaScript para o visualizar.\n
 				document.getElementById('cloak239439227105d61abdc3d4cef51a4454').inner
 HTML = ''\;\n				var prefix = '&#109\;a' + 'i&#108\;' + '&#116\;o'\;\n				
 var path = 'hr' + 'ef' + '='\;\n				var addy239439227105d61abdc3d4cef51a44
 54 = 's&#101\;c.&#111\;r&#105\;.c&#111\;&#97\;' + '&#64\;'\;\n				addy2394
 39227105d61abdc3d4cef51a4454 = addy239439227105d61abdc3d4cef51a4454 + 'gm&
 #97\;&#105\;l' + '&#46\;' + 'c&#111\;m'\;\n				var addy_text239439227105d6
 1abdc3d4cef51a4454 = 's&#101\;c.&#111\;r&#105\;.c&#111\;&#97\;' + '&#64\;'
  + 'gm&#97\;&#105\;l' + '&#46\;' + 'c&#111\;m'\;document.getElementById('c
 loak239439227105d61abdc3d4cef51a4454').innerHTML += ''+addy_text2394392271
 05d61abdc3d4cef51a4454+''\;\n		
 Informações:&nbsp\;967675960 /&nbsp\;9
 62901716&nbsp\;
 
 Dados obrigatórios para inscrição (individual ou e
 m grupo):
 Nome (s)\;
 Escalão de Participação\;
 Data (s) de Nascim
 ento\;
 Nº de federado na FPO/FEDO (caso não seja federado na FPO/FEDO\
 , o nº de Bilhete de Identidade ou CC)\;
 NIF (Número Identificação F
 iscal)\;
 Nº de telemóvel / Email\;
 Nº de SportIdent (será automati
 camente alugado\, caso não seja indicado na inscrição\;
 
 &nbsp\; &n
 bsp\; &nbsp\; &nbsp\; &nbsp\; SI Card: 2€
 &nbsp\; &nbsp\; &nbsp\; &nbs
 p\; &nbsp\; SI Card -Air+: 4€
 &nbsp\;
 ESCALÕES DE PARTICIPAÇÃO
 
 &nbsp\;Escalões Competitivos
 
 
 
 
 IDADE
 31DEZ2 2026
 
 
 Es
 calão
 
 
 &nbsp\;
 
 
 Categoria
 
 
 
 
 06 aos 10
 
 
 T
 10
 
 
 Formação
 (extra Campeonato Nacional)
 
 
 Escolas M/F
 
 
 
 
 
 11 e 12
 
 
 H/D12
 
 
 Infantis M/F
 
 
 
 
 13 e 
 14
 
 
 H/D14
 
 
 Competição
 
 
 Iniciados M/F
 
 
 
 
 
 15 e 16
 
 
 H/D16
 
 
 Juvenis M/F
 
 
 
 
 17 e 18
 
 
 H/
 D18
 
 
 Cadetes M/F
 
 
 
 
 19 e 20
 
 
 H/D20
 
 
 Junior
 es M/F
 
 
 
 
 21 ou mais
 
 
 H/DE
 
 
 Seniores M/F
 
 
 
 
 
 21 ou mais
 
 
 H/D21A
 
 
 Extra Campeonato Nacional
 
 
 
 
 
 21 ou mais
 
 
 H/DB
 
 
 
 
 35 a 39
 
 
 H/D35
 
 
 
 Competição
 
 
 Veteranos I M/F
 
 
 
 
 40 a 44
 
 
 H/D40

  
 
 
 
 45 a 49
 
 
 H/D45
 
 
 Veteranos II M/F
 
 
 
 
 
 50 a 54
 
 
 H/D50
 
 
 
 
 55 a 59
 
 
 H/D55
 
 
 Veterano
 s III M/F
 
 
 
 
 60 a 64
 
 
 H/D60
 
 
 
 
 65 a 69
 
 
 
 H/D65
 
 
 Veteranos IV M/F
 
 
 
 
 70 a 74
 
 
 H/D70
 
 
 
 
 
 75 a 79
 
 
 H/D75
 
 
 Veteranos V M/F
 
 
 
 
 80 ou
  mais
 
 
 H/D80
 
 
 
 
 
 Escalões Abertos&nbsp\;
 
 
 
 
 
 Branco
 
 
 Sem restrições etárias
 
 
 
 
 Verde
 
 
 Sem
  restrições etárias
 
 
 
 
 Amarelo
 
 
 Sem restrições etá
 rias
 
 
 
 
 Vermelho
 
 
 Sem restrições etárias
 
 
 
 
 
 Percursos Abertos – OPEN’S
 
 BRANCO (Fácil Curto)\; – percurso
  igual ao percurso T10\, dificuldade técnica e física muito reduzida\, a
 té 2\,5 km\;
 VERDE (Fácil Longo)\; – percurso apoiado em referência
 s lineares óbvias para um praticante com pouca experiência. Deve ter dif
 iculdade técnica e física reduzida\, com o maior interesse paisagístico
  possível e aconselhamento técnico opcional\, até 4 km\;
 AMARELO (Dif
 ícil Curto)\; – Dificuldade técnica média/alta e uma exigência físi
 ca baixa\, percurso com pontos técnicos até 4\,5 km\;
 VERMELHO (Difíc
 il Longo)\; – Dificuldade técnica média/alta e uma dificuldade física
  média/alta\, percurso com alguns pontos técnicos\, até 6 km.
 
 &nbs
 p\;Nota:
 
 Os atletas Não Federados (Individuais ou em grupo)\, podem 
 escolher os percursos abertos “Opens”\, abertos a todos em geral. Para
  consultar os escalões e distâncias.
 Para cada escalão\, há um percu
 rso diferente\, com distâncias e número de pontos de controlo distintos.
 
 As etapas são totalmente independentes\, pelo que as inscrições pode
 m ser só para uma das etapas.
 Podem inscrever-se online no programa Ori
 Oasis (Preferencialmente) ou por email:
 
 &nbsp\; &nbsp\; &nbsp\; &nbsp
 \; &nbsp\; &nbsp\;Este endereço de email está protegido contra piratas. 
 Necessita ativar o JavaScript para o visualizar.\n				document.getElementB
 yId('cloak242be59d0c1db18580db37089b34a67b').innerHTML = ''\;\n				var pre
 fix = '&#109\;a' + 'i&#108\;' + '&#116\;o'\;\n				var path = 'hr' + 'ef' +
  '='\;\n				var addy242be59d0c1db18580db37089b34a67b = 's&#101\;c.&#111\;r
 &#105\;.c&#111\;&#97\;' + '&#64\;'\;\n				addy242be59d0c1db18580db37089b34
 a67b = addy242be59d0c1db18580db37089b34a67b + 'gm&#97\;&#105\;l' + '&#46\;
 ' + 'c&#111\;m'\;\n				var addy_text242be59d0c1db18580db37089b34a67b = 's&
 #101\;c.&#111\;r&#105\;.c&#111\;&#97\;' + '&#64\;' + 'gm&#97\;&#105\;l' + 
 '&#46\;' + 'c&#111\;m'\;document.getElementById('cloak242be59d0c1db18580db
 37089b34a67b').innerHTML += ''+addy_text242be59d0c1db18580db37089b34a67b+'
 '\;\n		
 &nbsp\;
 PAGAMENTOS:
 
 Pagamento via Ori oásis (MB ou Refer
 encia)
 
 
 Por transferência bancária:
 
 Crédito Agrícola\, Del
 egação: CCAM Ribatejo Norte e Tramagal C.R.L. - Tramagal
 NIB: 0045 539
 0 4027 7244 9778 7
 IBAN: PT50 0045 5390 4027 7244 9778 7
 SWIFT/BIC: CC
 CMPTPL
 &nbsp\;Para facilitar a identificação\, solicita-se envio do co
 mprovativo para Este endereço de email está protegido contra piratas. Ne
 cessita ativar o JavaScript para o visualizar.\n				document.getElementByI
 d('cloak3a16f9bd61f00d7e2074d864d646bd19').innerHTML = ''\;\n				var prefi
 x = '&#109\;a' + 'i&#108\;' + '&#116\;o'\;\n				var path = 'hr' + 'ef' + '
 ='\;\n				var addy3a16f9bd61f00d7e2074d864d646bd19 = 's&#101\;c.&#111\;r&#
 105\;.c&#111\;&#97\;' + '&#64\;'\;\n				addy3a16f9bd61f00d7e2074d864d646bd
 19 = addy3a16f9bd61f00d7e2074d864d646bd19 + 'gm&#97\;&#105\;l' + '&#46\;' 
 + 'c&#111\;m'\;\n				var addy_text3a16f9bd61f00d7e2074d864d646bd19 = 's&#1
 01\;c.&#111\;r&#105\;.c&#111\;&#97\;' + '&#64\;' + 'gm&#97\;&#105\;l' + '&
 #46\;' + 'c&#111\;m'\;document.getElementById('cloak3a16f9bd61f00d7e2074d8
 64d646bd19').innerHTML += ''+addy_text3a16f9bd61f00d7e2074d864d646bd19+''\
 ;\n		\, com a identificação (no nome do ficheiro e/ou no descritivo) ass
 unto: [RMT2026 – CNDL e Estafetas e nome/equipa].
 OBS: Todos os pagame
 ntos deverão ser efetuados até 48 horas apos o fecho das inscrições (0
 1JUN26)\, com respetivo envio de comprovativo. A não efetivação do paga
 mento ocorre na anulação da inscrição.
 Comprovativo: Em todas as ins
 crições pagas por Transferência Bancária é necessário enviar comprov
 ativo da operação via email: Este endereço de email está protegido con
 tra piratas. Necessita ativar o JavaScript para o visualizar.\n				documen
 t.getElementById('cloakea1c36e14508af464033cb3133049d16').innerHTML = ''\;
 \n				var prefix = '&#109\;a' + 'i&#108\;' + '&#116\;o'\;\n				var path = 
 'hr' + 'ef' + '='\;\n				var addyea1c36e14508af464033cb3133049d16 = 's&#10
 1\;c.&#111\;r&#105\;.c&#111\;&#97\;' + '&#64\;'\;\n				addyea1c36e14508af4
 64033cb3133049d16 = addyea1c36e14508af464033cb3133049d16 + 'gm&#97\;&#105\
 ;l' + '&#46\;' + 'c&#111\;m'\;\n				var addy_textea1c36e14508af464033cb313
 3049d16 = 's&#101\;c.&#111\;r&#105\;.c&#111\;&#97\;' + '&#64\;' + 'gm&#97\
 ;&#105\;l' + '&#46\;' + 'c&#111\;m'\;document.getElementById('cloakea1c36e
 14508af464033cb3133049d16').innerHTML += ''+addy_textea1c36e14508af464033c
 b3133049d16+''\;\n		. É primordial que esse comprovativo permita identifi
 car a quem se dirige o pagamento\, portanto:
 
 Nas inscrições Express
  do OASIS\, colocar o Express Code no descritivo da confirmação\;
 Para
  pagamentos de clubes\, indique sempre o nome clube no descritivo.
 Para 
 pagamentos totais de clubes\, nada mais há a acrescentar.
 Para pagament
 os parciais\, indique nos comentários a lista de atletas\, ou envie um ma
 il à organização com a lista e o comprovativo em anexo.
 
 Nota: Toda
 s as despesas inerentes às transferências deverão ser suportadas pelos 
 ordenante. Se alguma despesa for indevidamente cobrada à Organização in
 erente às transferências efetuadas serão pagas posteriormente pelos clu
 bes ou atletas.
 Nota: Os recibos serão enviados via eletrónica.
 Info
 rmações:&nbsp\;962901716 (Diretor Prova)
 &nbsp\;
 \n\n\n\n\n\nRespons
 abilidades Sociais e Ambientais
 O evento será organizado de acordo com 
 princípios de responsabilidade social e ambiental\, pelo que a maioria da
 s aquisições será efetuada a nível local e será promovido o contacto 
 direto entre os participantes e os operadores locais\, sem passar por inte
 rmediários.
 
 \n\n\n\n\n\nOrganização
 ORGANIZADOR: COA – Clube d
 e Orientação e Aventura
 DIRETORA DA PROVA: Jorge Elias
 DIRETOR TECNI
 CO:&nbsp\;José Oliveira
 CARTÓGRAFO: Alexandre Reis/Jorge Elias/Jose Ol
 iveira
 TRAÇADOR DE PERCURSOS: Jorge Elias
 INFORMÁTICA: João Mota
 
 SECRETARIADO: Nuno Bernardino
 SUPERVISOR: Antonio&nbsp\;Neto
 
 Site&n
 bsp\;-&nbsp\; https://www.clubecoa.pt
 Facebook&nbsp\;-&nbsp\; https://ww
 w.facebook.com/clubecoa
 E-mail – sec.ori.Este endereço de email está
  protegido contra piratas. Necessita ativar o JavaScript para o visualizar
 .\n				document.getElementById('cloaka267655d06288f99670bcec9eb9d8e91').in
 nerHTML = ''\;\n				var prefix = '&#109\;a' + 'i&#108\;' + '&#116\;o'\;\n	
 			var path = 'hr' + 'ef' + '='\;\n				var addya267655d06288f99670bcec9eb9
 d8e91 = '&#111\;r&#105\;p&#101\;d.c&#111\;&#97\;' + '&#64\;'\;\n				addya2
 67655d06288f99670bcec9eb9d8e91 = addya267655d06288f99670bcec9eb9d8e91 + 'g
 m&#97\;&#105\;l' + '&#46\;' + 'c&#111\;m'\;\n				var addy_texta267655d0628
 8f99670bcec9eb9d8e91 = 'c&#111\;&#97\;' + '&#64\;' + 'gm&#97\;&#105\;l' + 
 '&#46\;' + 'c&#111\;m'\;document.getElementById('cloaka267655d06288f99670b
 cec9eb9d8e91').innerHTML += ''+addy_texta267655d06288f99670bcec9eb9d8e91+'
 '\;\n		
 Estacionamentos – Conforme indicação
 Primeiros socorros 
 – Ambulância de prevenção junto à arena\,&nbsp\;
 WCs – Junto á 
 Arena
 Banhos – No Solo Duro
 Resultados – Online e junto á Inform
 ática/Secretariado.
 Turismo – Ver site do Município Peniche
 
 &nb
 sp\;
 &nbsp\;\n\n\n\n\n\nPartidas
 &nbsp\;&nbsp\;&nbsp\;
 &nbsp\;\n\n\n
 \n\n\nClassificações
 &nbsp\;
 &nbsp\;\n\n\n\n\n\nAvisos/Alertas/Infor
 mação Relevante
 &nbsp\;
 &nbsp\;\n\n\n\n\n\nVideos e Fotos
 &nbsp\;&
 nbsp\;
 &nbsp\;
DTSTART:20260606T130000Z
DTEND:20260607T133000Z
DTSTAMP:20230601T141948Z
ORGANIZER:MAILTO:COA
END:VEVENT
END:VCALENDAR